BEGIN:VCALENDAR
VERSION:2.0
PRODID:-//Patagonia Public Library - ECPv6.15.20//NONSGML v1.0//EN
CALSCALE:GREGORIAN
METHOD:PUBLISH
X-ORIGINAL-URL:https://www.patagoniapubliclibrary.org
X-WR-CALDESC:Events for Patagonia Public Library
REFRESH-INTERVAL;VALUE=DURATION:PT1H
X-Robots-Tag:noindex
X-PUBLISHED-TTL:PT1H
BEGIN:VTIMEZONE
TZID:America/Phoenix
BEGIN:STANDARD
TZOFFSETFROM:-0700
TZOFFSETTO:-0700
TZNAME:MST
DTSTART:20250101T000000
END:STANDARD
END:VTIMEZONE
BEGIN:VEVENT
DTSTART;TZID=America/Phoenix:20260422T100000
DTEND;TZID=America/Phoenix:20260422T103000
DTSTAMP:20260422T145050
CREATED:20260304T210021Z
LAST-MODIFIED:20260304T210048Z
UID:10696-1776852000-1776853800@www.patagoniapubliclibrary.org
SUMMARY:Story Time with Miss Deb
DESCRIPTION:
URL:https://www.patagoniapubliclibrary.org/event/story-time-with-miss-deb-at-10-3-9-2-2-2-2-2-2-2-2-2-2-2-2-2-2-2-2-2-2-2-2-2-2-2-2-2-2-2-2-2-2/
LOCATION:Patagonia Public Library\, 346 Duquesne Ave\, Patagonia\, AZ\, 85624\, United States
CATEGORIES:Kid's events
ATTACH;FMTTYPE=image/png:https://www.patagoniapubliclibrary.org/wp-content/uploads/2025/06/Story-time.png
END:VEVENT
BEGIN:VEVENT
DTSTART;TZID=America/Phoenix:20260428T140000
DTEND;TZID=America/Phoenix:20260428T153000
DTSTAMP:20260422T145050
CREATED:20260304T210603Z
LAST-MODIFIED:20260304T220237Z
UID:10714-1777384800-1777390200@www.patagoniapubliclibrary.org
SUMMARY:Game Time at the Library
DESCRIPTION:
URL:https://www.patagoniapubliclibrary.org/event/game-time-at-the-library-2-2-2-2-2-2-2-2-2-2-2/
LOCATION:AZ
CATEGORIES:Gaming
ATTACH;FMTTYPE=image/jpeg:https://www.patagoniapubliclibrary.org/wp-content/uploads/2026/02/Game-Time.jpg
END:VEVENT
BEGIN:VEVENT
DTSTART;TZID=America/Phoenix:20260429T100000
DTEND;TZID=America/Phoenix:20260429T103000
DTSTAMP:20260422T145050
CREATED:20260304T210112Z
LAST-MODIFIED:20260304T210112Z
UID:10698-1777456800-1777458600@www.patagoniapubliclibrary.org
SUMMARY:Story Time with Miss Deb
DESCRIPTION:
URL:https://www.patagoniapubliclibrary.org/event/story-time-with-miss-deb-at-10-3-9-2-2-2-2-2-2-2-2-2-2-2-2-2-2-2-2-2-2-2-2-2-2-2-2-2-2-2-2-2-2-2/
LOCATION:Patagonia Public Library\, 346 Duquesne Ave\, Patagonia\, AZ\, 85624\, United States
CATEGORIES:Kid's events
ATTACH;FMTTYPE=image/png:https://www.patagoniapubliclibrary.org/wp-content/uploads/2025/06/Story-time.png
END:VEVENT
END:VCALENDAR