BEGIN:VCALENDAR
VERSION:2.0
PRODID:-//Patagonia Public Library - ECPv6.15.20//NONSGML v1.0//EN
CALSCALE:GREGORIAN
METHOD:PUBLISH
X-ORIGINAL-URL:https://www.patagoniapubliclibrary.org
X-WR-CALDESC:Events for Patagonia Public Library
REFRESH-INTERVAL;VALUE=DURATION:PT1H
X-Robots-Tag:noindex
X-PUBLISHED-TTL:PT1H
BEGIN:VTIMEZONE
TZID:America/Phoenix
BEGIN:STANDARD
TZOFFSETFROM:-0700
TZOFFSETTO:-0700
TZNAME:MST
DTSTART:20250101T000000
END:STANDARD
END:VTIMEZONE
BEGIN:VEVENT
DTSTART;TZID=America/Phoenix:20260704T080000
DTEND;TZID=America/Phoenix:20260704T170000
DTSTAMP:20260422T215255
CREATED:20251216T234752Z
LAST-MODIFIED:20251216T234752Z
UID:10269-1783152000-1783184400@www.patagoniapubliclibrary.org
SUMMARY:Closed - Independence Day
DESCRIPTION:
URL:https://www.patagoniapubliclibrary.org/event/closed-independence-day-2/
LOCATION:AZ
CATEGORIES:Federal Holiday
END:VEVENT
END:VCALENDAR