BEGIN:VCALENDAR
VERSION:2.0
PRODID:-//Patagonia Public Library - ECPv6.15.20//NONSGML v1.0//EN
CALSCALE:GREGORIAN
METHOD:PUBLISH
X-WR-CALNAME:Patagonia Public Library
X-ORIGINAL-URL:https://www.patagoniapubliclibrary.org
X-WR-CALDESC:Events for Patagonia Public Library
REFRESH-INTERVAL;VALUE=DURATION:PT1H
X-Robots-Tag:noindex
X-PUBLISHED-TTL:PT1H
BEGIN:VTIMEZONE
TZID:America/Phoenix
BEGIN:STANDARD
TZOFFSETFROM:-0700
TZOFFSETTO:-0700
TZNAME:MST
DTSTART:20250101T000000
END:STANDARD
END:VTIMEZONE
BEGIN:VEVENT
DTSTART;TZID=America/Phoenix:20260603T100000
DTEND;TZID=America/Phoenix:20260603T103000
DTSTAMP:20260422T183419
CREATED:20260304T205525Z
LAST-MODIFIED:20260304T205541Z
UID:10683-1780480800-1780482600@www.patagoniapubliclibrary.org
SUMMARY:Story Time with Miss Deb
DESCRIPTION:
URL:https://www.patagoniapubliclibrary.org/event/story-time-with-miss-deb-at-10-3-9-2-2-2-2-2-2-2-2-2-2-2-2-2-2-2-2-2-2-2-2-2-2-2-2-2-2-2/
LOCATION:Patagonia Public Library\, 346 Duquesne Ave\, Patagonia\, AZ\, 85624\, United States
CATEGORIES:Kid's events
ATTACH;FMTTYPE=image/png:https://www.patagoniapubliclibrary.org/wp-content/uploads/2025/06/Story-time.png
END:VEVENT
BEGIN:VEVENT
DTSTART;TZID=America/Phoenix:20260606T103000
DTEND;TZID=America/Phoenix:20260606T120000
DTSTAMP:20260422T183419
CREATED:20260419T011342Z
LAST-MODIFIED:20260419T011342Z
UID:10878-1780741800-1780747200@www.patagoniapubliclibrary.org
SUMMARY:Museum Members' Meeting - Guest Speaker Dr. Hunter Claypatch
DESCRIPTION:
URL:https://www.patagoniapubliclibrary.org/event/museum-members-meeting-guest-speaker-dr-hunter-claypatch/
LOCATION:Patagonia Public Library\, 346 Duquesne Ave\, Patagonia\, AZ\, 85624\, United States
CATEGORIES:Talk
ATTACH;FMTTYPE=image/jpeg:https://www.patagoniapubliclibrary.org/wp-content/uploads/2026/04/June-6-The-Archaeology-of-Patagonia-and-Sonoita-Creek.jpg
END:VEVENT
BEGIN:VEVENT
DTSTART;TZID=America/Phoenix:20260619T080000
DTEND;TZID=America/Phoenix:20260619T170000
DTSTAMP:20260422T183419
CREATED:20251216T234658Z
LAST-MODIFIED:20251216T234658Z
UID:10267-1781856000-1781888400@www.patagoniapubliclibrary.org
SUMMARY:Closed - Juneteenth
DESCRIPTION:
URL:https://www.patagoniapubliclibrary.org/event/closed-presidents-day-2/
LOCATION:AZ
CATEGORIES:Federal Holiday
END:VEVENT
END:VCALENDAR