BEGIN:VCALENDAR
VERSION:2.0
PRODID:-//Patagonia Public Library - ECPv6.15.20//NONSGML v1.0//EN
CALSCALE:GREGORIAN
METHOD:PUBLISH
X-ORIGINAL-URL:https://www.patagoniapubliclibrary.org
X-WR-CALDESC:Events for Patagonia Public Library
REFRESH-INTERVAL;VALUE=DURATION:PT1H
X-Robots-Tag:noindex
X-PUBLISHED-TTL:PT1H
BEGIN:VTIMEZONE
TZID:America/Phoenix
BEGIN:STANDARD
TZOFFSETFROM:-0700
TZOFFSETTO:-0700
TZNAME:MST
DTSTART:20240101T000000
END:STANDARD
END:VTIMEZONE
BEGIN:VEVENT
DTSTART;TZID=America/Phoenix:20251202T153000
DTEND;TZID=America/Phoenix:20251202T164500
DTSTAMP:20260422T215931
CREATED:20251105T181352Z
LAST-MODIFIED:20251105T181352Z
UID:9949-1764689400-1764693900@www.patagoniapubliclibrary.org
SUMMARY:Knitting and Crocheting Club
DESCRIPTION:
URL:https://www.patagoniapubliclibrary.org/event/knitting-and-crocheting-club/
LOCATION:Patagonia Public Library\, 346 Duquesne Ave\, Patagonia\, AZ\, 85624\, United States
CATEGORIES:Club
ATTACH;FMTTYPE=image/jpeg:https://www.patagoniapubliclibrary.org/wp-content/uploads/2025/11/Knitting-and-Crochet-Club.jpg
END:VEVENT
BEGIN:VEVENT
DTSTART;TZID=America/Phoenix:20251203T100000
DTEND;TZID=America/Phoenix:20251203T103000
DTSTAMP:20260422T215931
CREATED:20251028T232317Z
LAST-MODIFIED:20251107T192841Z
UID:9931-1764756000-1764757800@www.patagoniapubliclibrary.org
SUMMARY:Story Time with Miss Deb
DESCRIPTION:
URL:https://www.patagoniapubliclibrary.org/event/story-time-with-miss-deb-at-10-3-9-2-2-2-2-2-2-2-2-2-2-2-2-2-2-3/
LOCATION:Patagonia Public Library\, 346 Duquesne Ave\, Patagonia\, AZ\, 85624\, United States
CATEGORIES:Kid's events
ATTACH;FMTTYPE=image/png:https://www.patagoniapubliclibrary.org/wp-content/uploads/2025/06/Story-time.png
END:VEVENT
BEGIN:VEVENT
DTSTART;TZID=America/Phoenix:20251206T130000
DTEND;TZID=America/Phoenix:20251206T150000
DTSTAMP:20260422T215931
CREATED:20251107T192427Z
LAST-MODIFIED:20251107T193000Z
UID:9989-1765026000-1765033200@www.patagoniapubliclibrary.org
SUMMARY:Patagonia's Living Treasures
DESCRIPTION:
URL:https://www.patagoniapubliclibrary.org/event/patagonias-living-treasures/
LOCATION:AZ
CATEGORIES:Talk
ATTACH;FMTTYPE=image/jpeg:https://www.patagoniapubliclibrary.org/wp-content/uploads/2025/11/Living-Treasures.jpg
END:VEVENT
BEGIN:VEVENT
DTSTART;TZID=America/Phoenix:20251210T100000
DTEND;TZID=America/Phoenix:20251210T103000
DTSTAMP:20260422T215931
CREATED:20251028T232356Z
LAST-MODIFIED:20251028T232356Z
UID:9933-1765360800-1765362600@www.patagoniapubliclibrary.org
SUMMARY:Story Time with Miss Deb
DESCRIPTION:
URL:https://www.patagoniapubliclibrary.org/event/story-time-with-miss-deb-at-10-3-9-2-2-2-2-2-2-2-2-2-2-2-2-2-2-2-2/
LOCATION:Patagonia Public Library\, 346 Duquesne Ave\, Patagonia\, AZ\, 85624\, United States
CATEGORIES:Kid's events
END:VEVENT
BEGIN:VEVENT
DTSTART;TZID=America/Phoenix:20251217T100000
DTEND;TZID=America/Phoenix:20251217T103000
DTSTAMP:20260422T215931
CREATED:20251028T232420Z
LAST-MODIFIED:20251028T232420Z
UID:9935-1765965600-1765967400@www.patagoniapubliclibrary.org
SUMMARY:Story Time with Miss Deb
DESCRIPTION:
URL:https://www.patagoniapubliclibrary.org/event/story-time-with-miss-deb-at-10-3-9-2-2-2-2-2-2-2-2-2-2-2-2-2-2-2-2-2/
LOCATION:Patagonia Public Library\, 346 Duquesne Ave\, Patagonia\, AZ\, 85624\, United States
CATEGORIES:Kid's events
END:VEVENT
BEGIN:VEVENT
DTSTART;TZID=America/Phoenix:20251219T140000
DTEND;TZID=America/Phoenix:20251219T150000
DTSTAMP:20260422T215931
CREATED:20251211T011730Z
LAST-MODIFIED:20251211T012135Z
UID:10236-1766152800-1766156400@www.patagoniapubliclibrary.org
SUMMARY:Spice of the Month Club - Spices of Winter
DESCRIPTION:
URL:https://www.patagoniapubliclibrary.org/event/spice-of-the-month-club-savory-time-2/
LOCATION:Patagonia Public Library\, 346 Duquesne Ave\, Patagonia\, AZ\, 85624\, United States
CATEGORIES:Club
ATTACH;FMTTYPE=image/jpeg:https://www.patagoniapubliclibrary.org/wp-content/uploads/2025/12/Spice-Club.jpg
END:VEVENT
BEGIN:VEVENT
DTSTART;TZID=America/Phoenix:20251224T120000
DTEND;TZID=America/Phoenix:20251225T000000
DTSTAMP:20260422T215931
CREATED:20241016T204058Z
LAST-MODIFIED:20251211T011537Z
UID:8140-1766577600-1766620800@www.patagoniapubliclibrary.org
SUMMARY:Closed for Christmas
DESCRIPTION:
URL:https://www.patagoniapubliclibrary.org/event/closed-for-christmas-2/
LOCATION:AZ
CATEGORIES:Federal Holiday
END:VEVENT
BEGIN:VEVENT
DTSTART;TZID=America/Phoenix:20251231T120000
DTEND;TZID=America/Phoenix:20260101T170000
DTSTAMP:20260422T215931
CREATED:20251125T225855Z
LAST-MODIFIED:20251226T195737Z
UID:10056-1767182400-1767286800@www.patagoniapubliclibrary.org
SUMMARY:Happy New Year
DESCRIPTION:
URL:https://www.patagoniapubliclibrary.org/event/happy-new-year/
LOCATION:AZ
CATEGORIES:Federal Holiday
ATTACH;FMTTYPE=image/jpeg:https://www.patagoniapubliclibrary.org/wp-content/uploads/2025/11/IMG_0727-scaled.jpeg
END:VEVENT
END:VCALENDAR