BEGIN:VCALENDAR
VERSION:2.0
PRODID:-//Patagonia Public Library - ECPv6.15.20//NONSGML v1.0//EN
CALSCALE:GREGORIAN
METHOD:PUBLISH
X-ORIGINAL-URL:https://www.patagoniapubliclibrary.org
X-WR-CALDESC:Events for Patagonia Public Library
REFRESH-INTERVAL;VALUE=DURATION:PT1H
X-Robots-Tag:noindex
X-PUBLISHED-TTL:PT1H
BEGIN:VTIMEZONE
TZID:America/Phoenix
BEGIN:STANDARD
TZOFFSETFROM:-0700
TZOFFSETTO:-0700
TZNAME:MST
DTSTART:20240101T000000
END:STANDARD
END:VTIMEZONE
BEGIN:VEVENT
DTSTART;TZID=America/Phoenix:20251105T100000
DTEND;TZID=America/Phoenix:20251105T103000
DTSTAMP:20260422T235108
CREATED:20250924T035708Z
LAST-MODIFIED:20250924T035708Z
UID:9846-1762336800-1762338600@www.patagoniapubliclibrary.org
SUMMARY:Story Time with Miss Deb
DESCRIPTION:
URL:https://www.patagoniapubliclibrary.org/event/story-time-with-miss-deb-at-10-3-9-2-2-2-2-2-2-2-2-2-2-2-2/
LOCATION:Patagonia Public Library\, 346 Duquesne Ave\, Patagonia\, AZ\, 85624\, United States
CATEGORIES:Kid's events
END:VEVENT
BEGIN:VEVENT
DTSTART;TZID=America/Phoenix:20251108T140000
DTEND;TZID=America/Phoenix:20251108T160000
DTSTAMP:20260422T235108
CREATED:20250920T203135Z
LAST-MODIFIED:20250924T041648Z
UID:9833-1762610400-1762617600@www.patagoniapubliclibrary.org
SUMMARY:Author Talk - Dora Rodriquez
DESCRIPTION:
URL:https://www.patagoniapubliclibrary.org/event/author-talk-dora-rodriquez/
LOCATION:Patagonia Public Library\, 346 Duquesne Ave\, Patagonia\, AZ\, 85624\, United States
CATEGORIES:Talk
ATTACH;FMTTYPE=image/jpeg:https://www.patagoniapubliclibrary.org/wp-content/uploads/2025/09/FINAL-Dora-Rodriguez-book-talk-Flyer-6.jpg
END:VEVENT
BEGIN:VEVENT
DTSTART;TZID=America/Phoenix:20251108T163000
DTEND;TZID=America/Phoenix:20251108T190000
DTSTAMP:20260422T235108
CREATED:20250924T032058Z
LAST-MODIFIED:20250924T040339Z
UID:9839-1762619400-1762628400@www.patagoniapubliclibrary.org
SUMMARY:Patagonia Youth Enrichment Center Fundraiser Dinner
DESCRIPTION:
URL:https://www.patagoniapubliclibrary.org/event/patagonia-youth-enrichment-center-fundraiser-dinner/
LOCATION:Patagonia Youth Enrichment Center
CATEGORIES:Community Event
ATTACH;FMTTYPE=image/jpeg:https://www.patagoniapubliclibrary.org/wp-content/uploads/2025/09/PYEC-event.jpg
END:VEVENT
BEGIN:VEVENT
DTSTART;TZID=America/Phoenix:20251111T080000
DTEND;TZID=America/Phoenix:20251111T170000
DTSTAMP:20260422T235108
CREATED:20241011T203605Z
LAST-MODIFIED:20251107T194910Z
UID:8133-1762848000-1762880400@www.patagoniapubliclibrary.org
SUMMARY:Closed for Veterans Day
DESCRIPTION:
URL:https://www.patagoniapubliclibrary.org/event/closed-for-veteran-day-2/
LOCATION:AZ
CATEGORIES:Federal Holiday
END:VEVENT
BEGIN:VEVENT
DTSTART;TZID=America/Phoenix:20251112T100000
DTEND;TZID=America/Phoenix:20251112T103000
DTSTAMP:20260422T235108
CREATED:20250924T035747Z
LAST-MODIFIED:20250924T035747Z
UID:9848-1762941600-1762943400@www.patagoniapubliclibrary.org
SUMMARY:Story Time with Miss Deb
DESCRIPTION:
URL:https://www.patagoniapubliclibrary.org/event/story-time-with-miss-deb-at-10-3-9-2-2-2-2-2-2-2-2-2-2-2-2-2/
LOCATION:Patagonia Public Library\, 346 Duquesne Ave\, Patagonia\, AZ\, 85624\, United States
CATEGORIES:Kid's events
END:VEVENT
BEGIN:VEVENT
DTSTART;TZID=America/Phoenix:20251115T103000
DTEND;TZID=America/Phoenix:20251115T120000
DTSTAMP:20260422T235108
CREATED:20250811T020612Z
LAST-MODIFIED:20251020T184259Z
UID:9649-1763202600-1763208000@www.patagoniapubliclibrary.org
SUMMARY:Patagonia Museum Members Meeting - Guest Speaker John Langellier
DESCRIPTION:Following a brief business meeting\, author and historian John Langellier will discuss his book “Buffalo Soldiers in Arizona”.
URL:https://www.patagoniapubliclibrary.org/event/patagonia-museum-members-meeting-guest-speaker-alex-la-pierre-2-2/
LOCATION:Patagonia Public Library\, 346 Duquesne Ave\, Patagonia\, AZ\, 85624\, United States
CATEGORIES:Talk
END:VEVENT
BEGIN:VEVENT
DTSTART;TZID=America/Phoenix:20251119T100000
DTEND;TZID=America/Phoenix:20251119T103000
DTSTAMP:20260422T235108
CREATED:20250924T035817Z
LAST-MODIFIED:20250924T035817Z
UID:9850-1763546400-1763548200@www.patagoniapubliclibrary.org
SUMMARY:Story Time with Miss Deb
DESCRIPTION:
URL:https://www.patagoniapubliclibrary.org/event/story-time-with-miss-deb-at-10-3-9-2-2-2-2-2-2-2-2-2-2-2-2-2-2/
LOCATION:Patagonia Public Library\, 346 Duquesne Ave\, Patagonia\, AZ\, 85624\, United States
CATEGORIES:Kid's events
END:VEVENT
BEGIN:VEVENT
DTSTART;TZID=America/Phoenix:20251121T140000
DTEND;TZID=America/Phoenix:20251121T150000
DTSTAMP:20260422T235108
CREATED:20251030T190023Z
LAST-MODIFIED:20251030T190023Z
UID:9939-1763733600-1763737200@www.patagoniapubliclibrary.org
SUMMARY:Spice of the Month Club - Savory Time
DESCRIPTION:
URL:https://www.patagoniapubliclibrary.org/event/spice-of-the-month-club-savory-time/
LOCATION:Patagonia Public Library\, 346 Duquesne Ave\, Patagonia\, AZ\, 85624\, United States
CATEGORIES:Club
END:VEVENT
BEGIN:VEVENT
DTSTART;TZID=America/Phoenix:20251126T100000
DTEND;TZID=America/Phoenix:20251126T103000
DTSTAMP:20260422T235108
CREATED:20250924T035845Z
LAST-MODIFIED:20250924T035845Z
UID:9852-1764151200-1764153000@www.patagoniapubliclibrary.org
SUMMARY:Story Time with Miss Deb
DESCRIPTION:
URL:https://www.patagoniapubliclibrary.org/event/story-time-with-miss-deb-at-10-3-9-2-2-2-2-2-2-2-2-2-2-2-2-2-2-2/
LOCATION:Patagonia Public Library\, 346 Duquesne Ave\, Patagonia\, AZ\, 85624\, United States
CATEGORIES:Kid's events
END:VEVENT
BEGIN:VEVENT
DTSTART;TZID=America/Phoenix:20251126T120000
DTEND;TZID=America/Phoenix:20251129T170000
DTSTAMP:20260422T235108
CREATED:20241016T203707Z
LAST-MODIFIED:20251125T225624Z
UID:8135-1764158400-1764435600@www.patagoniapubliclibrary.org
SUMMARY:Closed to celebrate with our families
DESCRIPTION:
URL:https://www.patagoniapubliclibrary.org/event/closed-to-celebrate-with-our-families/
LOCATION:AZ
CATEGORIES:Federal Holiday
END:VEVENT
END:VCALENDAR