BEGIN:VCALENDAR
VERSION:2.0
PRODID:-//Patagonia Public Library - ECPv6.15.20//NONSGML v1.0//EN
CALSCALE:GREGORIAN
METHOD:PUBLISH
X-ORIGINAL-URL:https://www.patagoniapubliclibrary.org
X-WR-CALDESC:Events for Patagonia Public Library
REFRESH-INTERVAL;VALUE=DURATION:PT1H
X-Robots-Tag:noindex
X-PUBLISHED-TTL:PT1H
BEGIN:VTIMEZONE
TZID:America/Phoenix
BEGIN:STANDARD
TZOFFSETFROM:-0700
TZOFFSETTO:-0700
TZNAME:MST
DTSTART:20240101T000000
END:STANDARD
END:VTIMEZONE
BEGIN:VEVENT
DTSTART;TZID=America/Phoenix:20250715T090000
DTEND;TZID=America/Phoenix:20250718T110000
DTSTAMP:20260423T200924
CREATED:20250628T174917Z
LAST-MODIFIED:20250628T175807Z
UID:9526-1752570000-1752836400@www.patagoniapubliclibrary.org
SUMMARY:Color Our World - Summer Reading Program
DESCRIPTION:Reading\, crafts and snacks. Fun for everyone.
URL:https://www.patagoniapubliclibrary.org/event/color-our-world-summer-reading-program/
LOCATION:Patagonia Public Library\, 346 Duquesne Ave\, Patagonia\, AZ\, 85624\, United States
CATEGORIES:Kid's events
END:VEVENT
END:VCALENDAR