BEGIN:VCALENDAR
VERSION:2.0
PRODID:-//Patagonia Public Library - ECPv6.15.20//NONSGML v1.0//EN
CALSCALE:GREGORIAN
METHOD:PUBLISH
X-ORIGINAL-URL:https://www.patagoniapubliclibrary.org
X-WR-CALDESC:Events for Patagonia Public Library
REFRESH-INTERVAL;VALUE=DURATION:PT1H
X-Robots-Tag:noindex
X-PUBLISHED-TTL:PT1H
BEGIN:VTIMEZONE
TZID:America/Phoenix
BEGIN:STANDARD
TZOFFSETFROM:-0700
TZOFFSETTO:-0700
TZNAME:MST
DTSTART:20240101T000000
END:STANDARD
END:VTIMEZONE
BEGIN:VEVENT
DTSTART;TZID=America/Phoenix:20251001T100000
DTEND;TZID=America/Phoenix:20251001T103000
DTSTAMP:20260423T130519
CREATED:20250902T231710Z
LAST-MODIFIED:20250902T231710Z
UID:9783-1759312800-1759314600@www.patagoniapubliclibrary.org
SUMMARY:Story Time with Miss Deb
DESCRIPTION:
URL:https://www.patagoniapubliclibrary.org/event/story-time-with-miss-deb-at-10-3-9-2-2-2-2-2-2-2-2/
LOCATION:Patagonia Public Library\, 346 Duquesne Ave\, Patagonia\, AZ\, 85624\, United States
CATEGORIES:Kid's events
END:VEVENT
BEGIN:VEVENT
DTSTART;TZID=America/Phoenix:20251008T100000
DTEND;TZID=America/Phoenix:20251008T103000
DTSTAMP:20260423T130519
CREATED:20250902T231743Z
LAST-MODIFIED:20250902T231743Z
UID:9785-1759917600-1759919400@www.patagoniapubliclibrary.org
SUMMARY:Story Time with Miss Deb
DESCRIPTION:
URL:https://www.patagoniapubliclibrary.org/event/story-time-with-miss-deb-at-10-3-9-2-2-2-2-2-2-2-2-2/
LOCATION:Patagonia Public Library\, 346 Duquesne Ave\, Patagonia\, AZ\, 85624\, United States
CATEGORIES:Kid's events
END:VEVENT
BEGIN:VEVENT
DTSTART;TZID=America/Phoenix:20251015T100000
DTEND;TZID=America/Phoenix:20251015T103000
DTSTAMP:20260423T130519
CREATED:20250902T231905Z
LAST-MODIFIED:20250902T231905Z
UID:9787-1760522400-1760524200@www.patagoniapubliclibrary.org
SUMMARY:Story Time with Miss Deb
DESCRIPTION:
URL:https://www.patagoniapubliclibrary.org/event/story-time-with-miss-deb-at-10-3-9-2-2-2-2-2-2-2-2-2-2/
LOCATION:Patagonia Public Library\, 346 Duquesne Ave\, Patagonia\, AZ\, 85624\, United States
CATEGORIES:Kid's events
END:VEVENT
BEGIN:VEVENT
DTSTART;TZID=America/Phoenix:20251022T100000
DTEND;TZID=America/Phoenix:20251022T103000
DTSTAMP:20260423T130519
CREATED:20250916T220612Z
LAST-MODIFIED:20250916T220612Z
UID:9827-1761127200-1761129000@www.patagoniapubliclibrary.org
SUMMARY:Story Time with Miss Deb
DESCRIPTION:
URL:https://www.patagoniapubliclibrary.org/event/story-time-with-miss-deb-at-10-3-9-2-2-2-2-2-2-2-2-2-2-3/
LOCATION:Patagonia Public Library\, 346 Duquesne Ave\, Patagonia\, AZ\, 85624\, United States
CATEGORIES:Kid's events
END:VEVENT
BEGIN:VEVENT
DTSTART;TZID=America/Phoenix:20251029T100000
DTEND;TZID=America/Phoenix:20251029T103000
DTSTAMP:20260423T130519
CREATED:20250902T231934Z
LAST-MODIFIED:20250902T232527Z
UID:9789-1761732000-1761733800@www.patagoniapubliclibrary.org
SUMMARY:Story Time with Miss Deb
DESCRIPTION:
URL:https://www.patagoniapubliclibrary.org/event/story-time-with-miss-deb-at-10-3-9-2-2-2-2-2-2-2-2-2-2-2/
LOCATION:Patagonia Public Library\, 346 Duquesne Ave\, Patagonia\, AZ\, 85624\, United States
CATEGORIES:Kid's events
END:VEVENT
END:VCALENDAR