BEGIN:VCALENDAR
VERSION:2.0
PRODID:-//Patagonia Public Library - ECPv6.15.20//NONSGML v1.0//EN
CALSCALE:GREGORIAN
METHOD:PUBLISH
X-WR-CALNAME:Patagonia Public Library
X-ORIGINAL-URL:https://www.patagoniapubliclibrary.org
X-WR-CALDESC:Events for Patagonia Public Library
REFRESH-INTERVAL;VALUE=DURATION:PT1H
X-Robots-Tag:noindex
X-PUBLISHED-TTL:PT1H
BEGIN:VTIMEZONE
TZID:America/Phoenix
BEGIN:STANDARD
TZOFFSETFROM:-0700
TZOFFSETTO:-0700
TZNAME:MST
DTSTART:20240101T000000
END:STANDARD
END:VTIMEZONE
BEGIN:VEVENT
DTSTART;TZID=America/Phoenix:20250702T100000
DTEND;TZID=America/Phoenix:20250702T103000
DTSTAMP:20260423T182037
CREATED:20250628T174523Z
LAST-MODIFIED:20250628T210945Z
UID:9523-1751450400-1751452200@www.patagoniapubliclibrary.org
SUMMARY:Story Time with Miss Deb
DESCRIPTION:
URL:https://www.patagoniapubliclibrary.org/event/story-time-with-miss-deb-at-10-3-8/
LOCATION:Patagonia Public Library\, 346 Duquesne Ave\, Patagonia\, AZ\, 85624\, United States
CATEGORIES:Kid's events
END:VEVENT
BEGIN:VEVENT
DTSTART;TZID=America/Phoenix:20250709T100000
DTEND;TZID=America/Phoenix:20250709T103000
DTSTAMP:20260423T182037
CREATED:20250628T180435Z
LAST-MODIFIED:20250628T211345Z
UID:9545-1752055200-1752057000@www.patagoniapubliclibrary.org
SUMMARY:Story Time with Miss Deb
DESCRIPTION:
URL:https://www.patagoniapubliclibrary.org/event/story-time-with-miss-deb-5/
LOCATION:Patagonia Public Library\, 346 Duquesne Ave\, Patagonia\, AZ\, 85624\, United States
CATEGORIES:Kid's events
END:VEVENT
BEGIN:VEVENT
DTSTART;TZID=America/Phoenix:20250715T090000
DTEND;TZID=America/Phoenix:20250718T110000
DTSTAMP:20260423T182037
CREATED:20250628T174917Z
LAST-MODIFIED:20250628T175807Z
UID:9526-1752570000-1752836400@www.patagoniapubliclibrary.org
SUMMARY:Color Our World - Summer Reading Program
DESCRIPTION:Reading\, crafts and snacks. Fun for everyone.
URL:https://www.patagoniapubliclibrary.org/event/color-our-world-summer-reading-program/
LOCATION:Patagonia Public Library\, 346 Duquesne Ave\, Patagonia\, AZ\, 85624\, United States
CATEGORIES:Kid's events
END:VEVENT
BEGIN:VEVENT
DTSTART;TZID=America/Phoenix:20250723T100000
DTEND;TZID=America/Phoenix:20250723T103000
DTSTAMP:20260423T182037
CREATED:20250628T180505Z
LAST-MODIFIED:20250628T211307Z
UID:9547-1753264800-1753266600@www.patagoniapubliclibrary.org
SUMMARY:Story Time with Miss Deb
DESCRIPTION:
URL:https://www.patagoniapubliclibrary.org/event/story-time-with-miss-deb-4/
LOCATION:Patagonia Public Library\, 346 Duquesne Ave\, Patagonia\, AZ\, 85624\, United States
CATEGORIES:Kid's events
END:VEVENT
BEGIN:VEVENT
DTSTART;TZID=America/Phoenix:20250730T100000
DTEND;TZID=America/Phoenix:20250730T103000
DTSTAMP:20260423T182037
CREATED:20250628T180633Z
LAST-MODIFIED:20250628T211221Z
UID:9549-1753869600-1753871400@www.patagoniapubliclibrary.org
SUMMARY:Story Time with Miss Deb
DESCRIPTION:
URL:https://www.patagoniapubliclibrary.org/event/story-time-with-miss-deb-3/
LOCATION:Patagonia Public Library\, 346 Duquesne Ave\, Patagonia\, AZ\, 85624\, United States
CATEGORIES:Kid's events
END:VEVENT
END:VCALENDAR