BEGIN:VCALENDAR
VERSION:2.0
PRODID:-//Patagonia Public Library - ECPv6.15.20//NONSGML v1.0//EN
CALSCALE:GREGORIAN
METHOD:PUBLISH
X-ORIGINAL-URL:https://www.patagoniapubliclibrary.org
X-WR-CALDESC:Events for Patagonia Public Library
REFRESH-INTERVAL;VALUE=DURATION:PT1H
X-Robots-Tag:noindex
X-PUBLISHED-TTL:PT1H
BEGIN:VTIMEZONE
TZID:America/Phoenix
BEGIN:STANDARD
TZOFFSETFROM:-0700
TZOFFSETTO:-0700
TZNAME:MST
DTSTART:20220101T000000
END:STANDARD
END:VTIMEZONE
BEGIN:VEVENT
DTSTART;TZID=America/Phoenix:20231215T140000
DTEND;TZID=America/Phoenix:20231222T150000
DTSTAMP:20260424T170749
CREATED:20231102T213738Z
LAST-MODIFIED:20231215T005326Z
UID:7117-1702648800-1703257200@www.patagoniapubliclibrary.org
SUMMARY:Dungeons & Dragons - Ages 5 - 10
DESCRIPTION:
URL:https://www.patagoniapubliclibrary.org/event/dungeons-dragons-ages-12-4-2-2-3/
LOCATION:Patagonia Public Library\, 346 Duquesne Ave\, Patagonia\, AZ\, 85624\, United States
CATEGORIES:Gaming
END:VEVENT
END:VCALENDAR