BEGIN:VCALENDAR
VERSION:2.0
PRODID:-//Patagonia Public Library - ECPv6.15.20//NONSGML v1.0//EN
CALSCALE:GREGORIAN
METHOD:PUBLISH
X-WR-CALNAME:Patagonia Public Library
X-ORIGINAL-URL:https://www.patagoniapubliclibrary.org
X-WR-CALDESC:Events for Patagonia Public Library
REFRESH-INTERVAL;VALUE=DURATION:PT1H
X-Robots-Tag:noindex
X-PUBLISHED-TTL:PT1H
BEGIN:VTIMEZONE
TZID:America/Phoenix
BEGIN:STANDARD
TZOFFSETFROM:-0700
TZOFFSETTO:-0700
TZNAME:MST
DTSTART:20250101T000000
END:STANDARD
END:VTIMEZONE
BEGIN:VEVENT
DTSTART;TZID=America/Phoenix:20260619T080000
DTEND;TZID=America/Phoenix:20260619T170000
DTSTAMP:20260423T015325
CREATED:20251216T234658Z
LAST-MODIFIED:20251216T234658Z
UID:10267-1781856000-1781888400@www.patagoniapubliclibrary.org
SUMMARY:Closed - Juneteenth
DESCRIPTION:
URL:https://www.patagoniapubliclibrary.org/event/closed-presidents-day-2/
CATEGORIES:Federal Holiday
END:VEVENT
END:VCALENDAR