BEGIN:VCALENDAR
VERSION:2.0
PRODID:-//Patagonia Public Library - ECPv6.15.20//NONSGML v1.0//EN
CALSCALE:GREGORIAN
METHOD:PUBLISH
X-WR-CALNAME:Patagonia Public Library
X-ORIGINAL-URL:https://www.patagoniapubliclibrary.org
X-WR-CALDESC:Events for Patagonia Public Library
REFRESH-INTERVAL;VALUE=DURATION:PT1H
X-Robots-Tag:noindex
X-PUBLISHED-TTL:PT1H
BEGIN:VTIMEZONE
TZID:America/Phoenix
BEGIN:STANDARD
TZOFFSETFROM:-0700
TZOFFSETTO:-0700
TZNAME:MST
DTSTART:20240101T000000
END:STANDARD
END:VTIMEZONE
BEGIN:VEVENT
DTSTART;TZID=America/Phoenix:20250901T080000
DTEND;TZID=America/Phoenix:20250901T170000
DTSTAMP:20260423T095629
CREATED:20241016T203525Z
LAST-MODIFIED:20241016T203525Z
UID:8131-1756713600-1756746000@www.patagoniapubliclibrary.org
SUMMARY:Closed - Labor Day
DESCRIPTION:
URL:https://www.patagoniapubliclibrary.org/event/closed-labor-day/
CATEGORIES:Federal Holiday
END:VEVENT
END:VCALENDAR