BEGIN:VCALENDAR
VERSION:2.0
PRODID:-//Patagonia Public Library - ECPv6.15.20//NONSGML v1.0//EN
CALSCALE:GREGORIAN
METHOD:PUBLISH
X-ORIGINAL-URL:https://www.patagoniapubliclibrary.org
X-WR-CALDESC:Events for Patagonia Public Library
REFRESH-INTERVAL;VALUE=DURATION:PT1H
X-Robots-Tag:noindex
X-PUBLISHED-TTL:PT1H
BEGIN:VTIMEZONE
TZID:America/Phoenix
BEGIN:STANDARD
TZOFFSETFROM:-0700
TZOFFSETTO:-0700
TZNAME:MST
DTSTART:20240101T000000
END:STANDARD
END:VTIMEZONE
BEGIN:VEVENT
DTSTART;TZID=America/Phoenix:20250125T140000
DTEND;TZID=America/Phoenix:20250125T153000
DTSTAMP:20260424T204205
CREATED:20241205T215056Z
LAST-MODIFIED:20241205T215056Z
UID:8686-1737813600-1737819000@www.patagoniapubliclibrary.org
SUMMARY:Dog Biscuits Baking Class
DESCRIPTION:
URL:https://www.patagoniapubliclibrary.org/event/dog-biscuits-baking-class/
LOCATION:Patagonia Public Library\, 346 Duquesne Ave\, Patagonia\, AZ\, 85624\, United States
CATEGORIES:Craft class
END:VEVENT
END:VCALENDAR