BEGIN:VCALENDAR
VERSION:2.0
PRODID:-//Patagonia Public Library - ECPv6.15.20//NONSGML v1.0//EN
CALSCALE:GREGORIAN
METHOD:PUBLISH
X-ORIGINAL-URL:https://www.patagoniapubliclibrary.org
X-WR-CALDESC:Events for Patagonia Public Library
REFRESH-INTERVAL;VALUE=DURATION:PT1H
X-Robots-Tag:noindex
X-PUBLISHED-TTL:PT1H
BEGIN:VTIMEZONE
TZID:America/Phoenix
BEGIN:STANDARD
TZOFFSETFROM:-0700
TZOFFSETTO:-0700
TZNAME:MST
DTSTART:20240101T000000
END:STANDARD
END:VTIMEZONE
BEGIN:VEVENT
DTSTART;TZID=America/Phoenix:20250201T103000
DTEND;TZID=America/Phoenix:20250201T113000
DTSTAMP:20260424T172200
CREATED:20250117T194217Z
LAST-MODIFIED:20250117T194217Z
UID:8894-1738405800-1738409400@www.patagoniapubliclibrary.org
SUMMARY:Art Making Class - Woven Hearts with Susan Corl
DESCRIPTION:
URL:https://www.patagoniapubliclibrary.org/event/art-making-class-woven-hearts-with-susan-corl/
LOCATION:Patagonia Public Library\, 346 Duquesne Ave\, Patagonia\, AZ\, 85624\, United States
CATEGORIES:Craft class
ATTACH;FMTTYPE=image/jpeg:https://www.patagoniapubliclibrary.org/wp-content/uploads/2025/01/Heart-class-Library.jpg
END:VEVENT
BEGIN:VEVENT
DTSTART;TZID=America/Phoenix:20250207T100000
DTEND;TZID=America/Phoenix:20250207T110000
DTSTAMP:20260424T172200
CREATED:20241107T201132Z
LAST-MODIFIED:20241107T201132Z
UID:8465-1738922400-1738926000@www.patagoniapubliclibrary.org
SUMMARY:Making Valentines - Up to 5 years old
DESCRIPTION:
URL:https://www.patagoniapubliclibrary.org/event/making-valentines-up-to-5-years-old/
LOCATION:Patagonia Public Library\, 346 Duquesne Ave\, Patagonia\, AZ\, 85624\, United States
CATEGORIES:Craft class
END:VEVENT
BEGIN:VEVENT
DTSTART;TZID=America/Phoenix:20250207T140000
DTEND;TZID=America/Phoenix:20250207T150000
DTSTAMP:20260424T172200
CREATED:20241107T201237Z
LAST-MODIFIED:20241107T201237Z
UID:8467-1738936800-1738940400@www.patagoniapubliclibrary.org
SUMMARY:Making Valentines for 6 - 18 Year Old Artists
DESCRIPTION:
URL:https://www.patagoniapubliclibrary.org/event/making-valentines-for-6-18-year-old-artists/
LOCATION:Patagonia Public Library\, 346 Duquesne Ave\, Patagonia\, AZ\, 85624\, United States
CATEGORIES:Craft class
END:VEVENT
END:VCALENDAR