BEGIN:VCALENDAR
VERSION:2.0
PRODID:-//Patagonia Public Library - ECPv6.15.20//NONSGML v1.0//EN
CALSCALE:GREGORIAN
METHOD:PUBLISH
X-WR-CALNAME:Patagonia Public Library
X-ORIGINAL-URL:https://www.patagoniapubliclibrary.org
X-WR-CALDESC:Events for Patagonia Public Library
REFRESH-INTERVAL;VALUE=DURATION:PT1H
X-Robots-Tag:noindex
X-PUBLISHED-TTL:PT1H
BEGIN:VTIMEZONE
TZID:America/Phoenix
BEGIN:STANDARD
TZOFFSETFROM:-0700
TZOFFSETTO:-0700
TZNAME:MST
DTSTART:20230101T000000
END:STANDARD
END:VTIMEZONE
BEGIN:VEVENT
DTSTART;TZID=America/Phoenix:20240604T110000
DTEND;TZID=America/Phoenix:20240604T120000
DTSTAMP:20260425T060800
CREATED:20240603T170029Z
LAST-MODIFIED:20240603T170130Z
UID:7670-1717498800-1717502400@www.patagoniapubliclibrary.org
SUMMARY:Book Binding with Susan Corl
DESCRIPTION:
URL:https://www.patagoniapubliclibrary.org/event/book-binding-with-susan-corl/
LOCATION:Patagonia Public Library\, 346 Duquesne Ave\, Patagonia\, AZ\, 85624\, United States
CATEGORIES:Craft class
END:VEVENT
BEGIN:VEVENT
DTSTART;TZID=America/Phoenix:20240618T110000
DTEND;TZID=America/Phoenix:20240618T120000
DTSTAMP:20260425T060800
CREATED:20240603T170214Z
LAST-MODIFIED:20240603T170214Z
UID:7673-1718708400-1718712000@www.patagoniapubliclibrary.org
SUMMARY:Book Binding with Susan Corl
DESCRIPTION:
URL:https://www.patagoniapubliclibrary.org/event/book-binding-with-susan-corl-2/
LOCATION:Patagonia Public Library\, 346 Duquesne Ave\, Patagonia\, AZ\, 85624\, United States
CATEGORIES:Craft class
END:VEVENT
BEGIN:VEVENT
DTSTART;TZID=America/Phoenix:20240625T110000
DTEND;TZID=America/Phoenix:20240625T120000
DTSTAMP:20260425T060800
CREATED:20240603T170240Z
LAST-MODIFIED:20240603T170240Z
UID:7675-1719313200-1719316800@www.patagoniapubliclibrary.org
SUMMARY:Book Binding with Susan Corl
DESCRIPTION:
URL:https://www.patagoniapubliclibrary.org/event/book-binding-with-susan-corl-3/
LOCATION:Patagonia Public Library\, 346 Duquesne Ave\, Patagonia\, AZ\, 85624\, United States
CATEGORIES:Craft class
END:VEVENT
END:VCALENDAR