BEGIN:VCALENDAR
VERSION:2.0
PRODID:-//Patagonia Public Library - ECPv6.15.20//NONSGML v1.0//EN
CALSCALE:GREGORIAN
METHOD:PUBLISH
X-WR-CALNAME:Patagonia Public Library
X-ORIGINAL-URL:https://www.patagoniapubliclibrary.org
X-WR-CALDESC:Events for Patagonia Public Library
REFRESH-INTERVAL;VALUE=DURATION:PT1H
X-Robots-Tag:noindex
X-PUBLISHED-TTL:PT1H
BEGIN:VTIMEZONE
TZID:America/Phoenix
BEGIN:STANDARD
TZOFFSETFROM:-0700
TZOFFSETTO:-0700
TZNAME:MST
DTSTART:20250101T000000
END:STANDARD
END:VTIMEZONE
BEGIN:VEVENT
DTSTART;TZID=America/Phoenix:20260317T153000
DTEND;TZID=America/Phoenix:20260317T164500
DTSTAMP:20260422T200647
CREATED:20260304T205646Z
LAST-MODIFIED:20260304T205646Z
UID:10685-1773761400-1773765900@www.patagoniapubliclibrary.org
SUMMARY:Knitting and Crocheting Club
DESCRIPTION:
URL:https://www.patagoniapubliclibrary.org/event/knitting-and-crocheting-club-2-2-2-2/
LOCATION:Patagonia Public Library\, 346 Duquesne Ave\, Patagonia\, AZ\, 85624\, United States
CATEGORIES:Club
ATTACH;FMTTYPE=image/png:https://www.patagoniapubliclibrary.org/wp-content/uploads/2026/03/Copy-of-Knitting-and-Crochet-Club.png
END:VEVENT
END:VCALENDAR