BEGIN:VCALENDAR
VERSION:2.0
PRODID:-//Patagonia Public Library - ECPv6.15.20//NONSGML v1.0//EN
CALSCALE:GREGORIAN
METHOD:PUBLISH
X-WR-CALNAME:Patagonia Public Library
X-ORIGINAL-URL:https://www.patagoniapubliclibrary.org
X-WR-CALDESC:Events for Patagonia Public Library
REFRESH-INTERVAL;VALUE=DURATION:PT1H
X-Robots-Tag:noindex
X-PUBLISHED-TTL:PT1H
BEGIN:VTIMEZONE
TZID:America/Phoenix
BEGIN:STANDARD
TZOFFSETFROM:-0700
TZOFFSETTO:-0700
TZNAME:MST
DTSTART:20250101T000000
END:STANDARD
END:VTIMEZONE
BEGIN:VEVENT
DTSTART;TZID=America/Phoenix:20260106T153000
DTEND;TZID=America/Phoenix:20260106T164500
DTSTAMP:20260422T220239
CREATED:20251211T011931Z
LAST-MODIFIED:20251211T012000Z
UID:10239-1767713400-1767717900@www.patagoniapubliclibrary.org
SUMMARY:Knitting and Crocheting Club
DESCRIPTION:
URL:https://www.patagoniapubliclibrary.org/event/knitting-and-crocheting-club-2/
LOCATION:Patagonia Public Library\, 346 Duquesne Ave\, Patagonia\, AZ\, 85624\, United States
CATEGORIES:Club
ATTACH;FMTTYPE=image/jpeg:https://www.patagoniapubliclibrary.org/wp-content/uploads/2025/12/Knitting-and-Crochet-Club-1.jpg
END:VEVENT
END:VCALENDAR