BEGIN:VCALENDAR
VERSION:2.0
PRODID:-//Patagonia Public Library - ECPv6.15.20//NONSGML v1.0//EN
CALSCALE:GREGORIAN
METHOD:PUBLISH
X-ORIGINAL-URL:https://www.patagoniapubliclibrary.org
X-WR-CALDESC:Events for Patagonia Public Library
REFRESH-INTERVAL;VALUE=DURATION:PT1H
X-Robots-Tag:noindex
X-PUBLISHED-TTL:PT1H
BEGIN:VTIMEZONE
TZID:America/Phoenix
BEGIN:STANDARD
TZOFFSETFROM:-0700
TZOFFSETTO:-0700
TZNAME:MST
DTSTART:20250101T000000
END:STANDARD
END:VTIMEZONE
BEGIN:VEVENT
DTSTART;TZID=America/Phoenix:20260505T153000
DTEND;TZID=America/Phoenix:20260505T164500
DTSTAMP:20260422T165249
CREATED:20260304T210210Z
LAST-MODIFIED:20260304T210210Z
UID:10702-1777995000-1777999500@www.patagoniapubliclibrary.org
SUMMARY:Knitting and Crocheting Club
DESCRIPTION:
URL:https://www.patagoniapubliclibrary.org/event/knitting-and-crocheting-club-2-2-2-2-2-2-2/
LOCATION:Patagonia Public Library\, 346 Duquesne Ave\, Patagonia\, AZ\, 85624\, United States
CATEGORIES:Club
ATTACH;FMTTYPE=image/png:https://www.patagoniapubliclibrary.org/wp-content/uploads/2026/03/Copy-of-Knitting-and-Crochet-Club.png
END:VEVENT
BEGIN:VEVENT
DTSTART;TZID=America/Phoenix:20260515T140000
DTEND;TZID=America/Phoenix:20260515T150000
DTSTAMP:20260422T165249
CREATED:20260403T204345Z
LAST-MODIFIED:20260403T204345Z
UID:10836-1778853600-1778857200@www.patagoniapubliclibrary.org
SUMMARY:Spice of the Month Club
DESCRIPTION:
URL:https://www.patagoniapubliclibrary.org/event/spice-of-the-month-club-2/
LOCATION:Patagonia Public Library\, 346 Duquesne Ave\, Patagonia\, AZ\, 85624\, United States
CATEGORIES:Club
ATTACH;FMTTYPE=image/png:https://www.patagoniapubliclibrary.org/wp-content/uploads/2026/04/Spice-Club.png
END:VEVENT
BEGIN:VEVENT
DTSTART;TZID=America/Phoenix:20260519T153000
DTEND;TZID=America/Phoenix:20260519T164500
DTSTAMP:20260422T165249
CREATED:20260304T210232Z
LAST-MODIFIED:20260408T200648Z
UID:10704-1779204600-1779209100@www.patagoniapubliclibrary.org
SUMMARY:Knitting and Crocheting Club
DESCRIPTION:
URL:https://www.patagoniapubliclibrary.org/event/knitting-and-crocheting-club-3/
LOCATION:Patagonia Public Library\, 346 Duquesne Ave\, Patagonia\, AZ\, 85624\, United States
CATEGORIES:Club
ATTACH;FMTTYPE=image/png:https://www.patagoniapubliclibrary.org/wp-content/uploads/2026/03/Copy-of-Knitting-and-Crochet-Club.png
END:VEVENT
END:VCALENDAR