BEGIN:VCALENDAR
VERSION:2.0
PRODID:-//Patagonia Public Library - ECPv6.15.20//NONSGML v1.0//EN
CALSCALE:GREGORIAN
METHOD:PUBLISH
X-WR-CALNAME:Patagonia Public Library
X-ORIGINAL-URL:https://www.patagoniapubliclibrary.org
X-WR-CALDESC:Events for Patagonia Public Library
REFRESH-INTERVAL;VALUE=DURATION:PT1H
X-Robots-Tag:noindex
X-PUBLISHED-TTL:PT1H
BEGIN:VTIMEZONE
TZID:America/Phoenix
BEGIN:STANDARD
TZOFFSETFROM:-0700
TZOFFSETTO:-0700
TZNAME:MST
DTSTART:20250101T000000
END:STANDARD
END:VTIMEZONE
BEGIN:VEVENT
DTSTART;TZID=America/Phoenix:20260520T100000
DTEND;TZID=America/Phoenix:20260520T103000
DTSTAMP:20260422T183309
CREATED:20260403T203918Z
LAST-MODIFIED:20260403T203918Z
UID:10832-1779271200-1779273000@www.patagoniapubliclibrary.org
SUMMARY:Story Time with Miss Deb
DESCRIPTION:
URL:https://www.patagoniapubliclibrary.org/event/story-time-with-miss-deb-at-10-3-9-2-2-2-2-2-2-2-2-2-2-2-2-2-2-2-2-2-2-2-2-2-2-2-2-2-2-2-2-2-2-2-2-2-2/
LOCATION:Patagonia Public Library\, 346 Duquesne Ave\, Patagonia\, AZ\, 85624\, United States
CATEGORIES:Kid's events
ATTACH;FMTTYPE=image/png:https://www.patagoniapubliclibrary.org/wp-content/uploads/2025/06/Story-time.png
END:VEVENT
END:VCALENDAR