BEGIN:VCALENDAR
VERSION:2.0
PRODID:-//Patagonia Public Library - ECPv6.15.20//NONSGML v1.0//EN
CALSCALE:GREGORIAN
METHOD:PUBLISH
X-WR-CALNAME:Patagonia Public Library
X-ORIGINAL-URL:https://www.patagoniapubliclibrary.org
X-WR-CALDESC:Events for Patagonia Public Library
REFRESH-INTERVAL;VALUE=DURATION:PT1H
X-Robots-Tag:noindex
X-PUBLISHED-TTL:PT1H
BEGIN:VTIMEZONE
TZID:America/Phoenix
BEGIN:STANDARD
TZOFFSETFROM:-0700
TZOFFSETTO:-0700
TZNAME:MST
DTSTART:20250101T000000
END:STANDARD
END:VTIMEZONE
BEGIN:VEVENT
DTSTART;TZID=America/Phoenix:20260421T140000
DTEND;TZID=America/Phoenix:20260421T153000
DTSTAMP:20260422T145051
CREATED:20260304T210546Z
LAST-MODIFIED:20260304T210546Z
UID:10712-1776780000-1776785400@www.patagoniapubliclibrary.org
SUMMARY:Game Time at the Library
DESCRIPTION:
URL:https://www.patagoniapubliclibrary.org/event/game-time-at-the-library-2-2-2-2-2-2-2-2-2-2/
LOCATION:AZ
CATEGORIES:Gaming
ATTACH;FMTTYPE=image/jpeg:https://www.patagoniapubliclibrary.org/wp-content/uploads/2026/02/Game-Time.jpg
END:VEVENT
BEGIN:VEVENT
DTSTART;TZID=America/Phoenix:20260421T153000
DTEND;TZID=America/Phoenix:20260421T164500
DTSTAMP:20260422T145051
CREATED:20260304T205739Z
LAST-MODIFIED:20260304T205739Z
UID:10690-1776785400-1776789900@www.patagoniapubliclibrary.org
SUMMARY:Knitting and Crocheting Club
DESCRIPTION:
URL:https://www.patagoniapubliclibrary.org/event/knitting-and-crocheting-club-2-2-2-2-2-2/
LOCATION:Patagonia Public Library\, 346 Duquesne Ave\, Patagonia\, AZ\, 85624\, United States
CATEGORIES:Club
ATTACH;FMTTYPE=image/png:https://www.patagoniapubliclibrary.org/wp-content/uploads/2026/03/Copy-of-Knitting-and-Crochet-Club.png
END:VEVENT
END:VCALENDAR