BEGIN:VCALENDAR
VERSION:2.0
PRODID:-//Patagonia Public Library - ECPv6.15.20//NONSGML v1.0//EN
CALSCALE:GREGORIAN
METHOD:PUBLISH
X-WR-CALNAME:Patagonia Public Library
X-ORIGINAL-URL:https://www.patagoniapubliclibrary.org
X-WR-CALDESC:Events for Patagonia Public Library
REFRESH-INTERVAL;VALUE=DURATION:PT1H
X-Robots-Tag:noindex
X-PUBLISHED-TTL:PT1H
BEGIN:VTIMEZONE
TZID:America/Phoenix
BEGIN:STANDARD
TZOFFSETFROM:-0700
TZOFFSETTO:-0700
TZNAME:MST
DTSTART:20250101T000000
END:STANDARD
END:VTIMEZONE
BEGIN:VEVENT
DTSTART;TZID=America/Phoenix:20260124T103000
DTEND;TZID=America/Phoenix:20260124T120000
DTSTAMP:20260422T215557
CREATED:20251223T195829Z
LAST-MODIFIED:20251223T200011Z
UID:10289-1769250600-1769256000@www.patagoniapubliclibrary.org
SUMMARY:Patagonia Museum Members Meeting - Guest Speaker Scott Warren
DESCRIPTION:Following a brief business meeting\, author\, geographer and humanitarian Scott Warren will discuss his most recent work.
URL:https://www.patagoniapubliclibrary.org/event/patagonia-museum-members-meeting-guest-speaker-alex-la-pierre-2-2-2/
LOCATION:Patagonia Public Library\, 346 Duquesne Ave\, Patagonia\, AZ\, 85624\, United States
CATEGORIES:Talk
ATTACH;FMTTYPE=image/jpeg:https://www.patagoniapubliclibrary.org/wp-content/uploads/2025/12/Scott-Portrait-33-1-672x372-1.jpg
END:VEVENT
END:VCALENDAR