BEGIN:VCALENDAR
VERSION:2.0
PRODID:-//Patagonia Public Library - ECPv6.15.20//NONSGML v1.0//EN
CALSCALE:GREGORIAN
METHOD:PUBLISH
X-ORIGINAL-URL:https://www.patagoniapubliclibrary.org
X-WR-CALDESC:Events for Patagonia Public Library
REFRESH-INTERVAL;VALUE=DURATION:PT1H
X-Robots-Tag:noindex
X-PUBLISHED-TTL:PT1H
BEGIN:VTIMEZONE
TZID:America/Phoenix
BEGIN:STANDARD
TZOFFSETFROM:-0700
TZOFFSETTO:-0700
TZNAME:MST
DTSTART:20250101T000000
END:STANDARD
END:VTIMEZONE
BEGIN:VEVENT
DTSTART;TZID=America/Phoenix:20260116T140000
DTEND;TZID=America/Phoenix:20260116T150000
DTSTAMP:20260422T215756
CREATED:20260113T210759Z
LAST-MODIFIED:20260113T210952Z
UID:10378-1768572000-1768575600@www.patagoniapubliclibrary.org
SUMMARY:Spice of the Month Club - Cayenne
DESCRIPTION:
URL:https://www.patagoniapubliclibrary.org/event/spice-of-the-month-club-cayenne/
LOCATION:Patagonia Public Library\, 346 Duquesne Ave\, Patagonia\, AZ\, 85624\, United States
CATEGORIES:Club
ATTACH;FMTTYPE=image/png:https://www.patagoniapubliclibrary.org/wp-content/uploads/2026/01/Spice-Club.png
END:VEVENT
END:VCALENDAR