BEGIN:VCALENDAR
VERSION:2.0
PRODID:-//Patagonia Public Library - ECPv6.15.20//NONSGML v1.0//EN
CALSCALE:GREGORIAN
METHOD:PUBLISH
X-ORIGINAL-URL:https://www.patagoniapubliclibrary.org
X-WR-CALDESC:Events for Patagonia Public Library
REFRESH-INTERVAL;VALUE=DURATION:PT1H
X-Robots-Tag:noindex
X-PUBLISHED-TTL:PT1H
BEGIN:VTIMEZONE
TZID:America/Phoenix
BEGIN:STANDARD
TZOFFSETFROM:-0700
TZOFFSETTO:-0700
TZNAME:MST
DTSTART:20240101T000000
END:STANDARD
END:VTIMEZONE
BEGIN:VEVENT
DTSTART;TZID=America/Phoenix:20251111T080000
DTEND;TZID=America/Phoenix:20251111T170000
DTSTAMP:20260423T014331
CREATED:20241011T203605Z
LAST-MODIFIED:20251107T194910Z
UID:8133-1762848000-1762880400@www.patagoniapubliclibrary.org
SUMMARY:Closed for Veterans Day
DESCRIPTION:
URL:https://www.patagoniapubliclibrary.org/event/closed-for-veteran-day-2/
LOCATION:AZ
CATEGORIES:Federal Holiday
END:VEVENT
END:VCALENDAR